BEGIN:VCALENDAR
VERSION:2.0
PRODID:-//Generative Gaze - ECPv6.15.20//NONSGML v1.0//EN
CALSCALE:GREGORIAN
METHOD:PUBLISH
X-WR-CALNAME:Generative Gaze
X-ORIGINAL-URL:https://generativegaze.org
X-WR-CALDESC:Events for Generative Gaze
REFRESH-INTERVAL;VALUE=DURATION:PT1H
X-Robots-Tag:noindex
X-PUBLISHED-TTL:PT1H
BEGIN:VTIMEZONE
TZID:UTC
BEGIN:STANDARD
TZOFFSETFROM:+0000
TZOFFSETTO:+0000
TZNAME:UTC
DTSTART:20230101T000000
END:STANDARD
END:VTIMEZONE
BEGIN:VEVENT
DTSTART;TZID=UTC:20240623T140000
DTEND;TZID=UTC:20240623T200000
DTSTAMP:20260423T150451
CREATED:20240623T024232Z
LAST-MODIFIED:20240623T183936Z
UID:9651-1719151200-1719172800@generativegaze.org
SUMMARY:Prince Tunde Odunlade's Art Show and Sale in the Metropolitan Washington\, DC area
DESCRIPTION:Internationally-acclaimed actor\, musician and textile artist\, Prince Tunde Odunlade holds an Art Show and Sale on Sunday\, June 23\, 2024 from 2:00pm – 8:00pm.  You are welcome to join us. #DrG\, #GenerativeGaze\, #PanAfricaMedia
URL:https://generativegaze.org/event/prince-tunde-odunlades-art-show-and-sale-in-the-metropolitan-washington-dc-area/
END:VEVENT
BEGIN:VEVENT
DTSTART;TZID=UTC:20240406T080000
DTEND;TZID=UTC:20240406T170000
DTSTAMP:20260423T150451
CREATED:20240328T184116Z
LAST-MODIFIED:20240328T184116Z
UID:9491-1712390400-1712422800@generativegaze.org
SUMMARY:International Day of Sport for Development and Peace
DESCRIPTION:IDSDP 2024: Sport for the Promotion of Peaceful and Inclusive Societies\nThe International Day of Sport for Development and Peace (IDSDP)\, which takes place annually on 6 April\, presents an opportunity to recognize the positive role sport and physical activity play in communities and in people’s lives across the globe. \nThe global theme for 2024 is “Sport for the Promotion of Peaceful and Inclusive Societies”. \nIn observance of the International Day\, on April 4 an event at UN Headquarters in New York will focus on how prominent sporting bodies engage in partnerships to make positive impacts for people and the environments in which they operate. It will bring together members of the international sporting community – including members of the United Nations Football for the Goals initiative – to share best practices\, discuss challenges\, and explore collaborative opportunities to drive positive social change and contribute to global efforts towards sustainable development and peace. \nThe United Nations has long recognized the power and universality of sport\, using it to unite individuals and groups through supporting sport for development efforts\, participating in events from the global to the grassroots level\, and developing its own sports-related campaigns and initiatives.
URL:https://generativegaze.org/event/international-day-of-sport-for-development-and-peace/
ATTACH;FMTTYPE=image/jpeg:https://generativegaze.org/wp-content/uploads/2024/03/youth_sport4climat.jpeg
END:VEVENT
END:VCALENDAR